BEGIN:VCALENDAR
VERSION:2.0
PRODID:-//Adunat.ro - ECPv6.15.20//NONSGML v1.0//EN
CALSCALE:GREGORIAN
METHOD:PUBLISH
X-ORIGINAL-URL:https://adunat.ro
X-WR-CALDESC:Evenimente pentru Adunat.ro
REFRESH-INTERVAL;VALUE=DURATION:PT1H
X-Robots-Tag:noindex
X-PUBLISHED-TTL:PT1H
BEGIN:VTIMEZONE
TZID:Europe/Bucharest
BEGIN:DAYLIGHT
TZOFFSETFROM:+0200
TZOFFSETTO:+0300
TZNAME:EEST
DTSTART:20250330T010000
END:DAYLIGHT
BEGIN:STANDARD
TZOFFSETFROM:+0300
TZOFFSETTO:+0200
TZNAME:EET
DTSTART:20251026T010000
END:STANDARD
BEGIN:DAYLIGHT
TZOFFSETFROM:+0200
TZOFFSETTO:+0300
TZNAME:EEST
DTSTART:20260329T010000
END:DAYLIGHT
BEGIN:STANDARD
TZOFFSETFROM:+0300
TZOFFSETTO:+0200
TZNAME:EET
DTSTART:20261025T010000
END:STANDARD
BEGIN:DAYLIGHT
TZOFFSETFROM:+0200
TZOFFSETTO:+0300
TZNAME:EEST
DTSTART:20270328T010000
END:DAYLIGHT
BEGIN:STANDARD
TZOFFSETFROM:+0300
TZOFFSETTO:+0200
TZNAME:EET
DTSTART:20271031T010000
END:STANDARD
END:VTIMEZONE
BEGIN:VEVENT
DTSTART;TZID=Europe/Bucharest:20260425T180000
DTEND;TZID=Europe/Bucharest:20260425T200000
DTSTAMP:20260420T205859
CREATED:20260420T122036Z
LAST-MODIFIED:20260420T122036Z
UID:10000047-1777140000-1777147200@adunat.ro
SUMMARY:Sinele artistic ca parte din cine sunt eu
DESCRIPTION:🤔 De câte ori ai simțit că ai o parte din tine care vrea să creeze…dar parcă nu își găsește locul în viața ta de zi cu zi? \nPoate ai simțit impulsul să scrii\, să desenezi\, să dansezi\, să creezi ceva…dar între roluri\, responsabilități și „ce trebuie făcut”\, partea asta rămâne undeva pe pauză. \nNu e vina ta.De cele mai multe ori\, nu am învățat cum să integrăm toate versiunile noastre –și ajungem să alegem între ele\, în loc să le lăsăm să coexiste. \nAșa că hai să încercăm altceva. \n👉 Sâmbătă\, 25 aprilie\, te invităm la un workshop despre „Sinele artistic ca parte din cine sunt eu”în cadrul FLOWERS FESTIVAL – Topic Hub Sibiu. \n✨ Cum vine asta? \nSinele artistic nu e doar despre artă.E acea parte din tine care simte\, percepe\, se lasă atinsă de viață… și alege să creeze. \nÎn acest workshop\, explorăm cum putem integra această parte alături de celelalte roluri ale noastre –fără să le punem în competiție\, fără să ne trădăm pe noi înșine. \nNu e despre „a deveni artist”.E despre a-ți da voie să fii întreg. \n🌀 La ce să te aștepți? \n– exerciții ghidate de explorare și reflecție– momente de creație (fără presiune de performanță)– spațiu de împărtășire autentică– un cadru sigur în care să experimentezi fără să fii judecat \nNu ai nevoie de „talent” sau experiență artistică.Ai nevoie doar de curiozitate. \n📌 Regulile spațiului: \n– vorbim din experiența noastră\, nu în generalități– ascultăm fără să întrerupem sau să corectăm– nu dăm sfaturi nesolicitate– fiecare participă în ritmul lui– ce se întâmplă aici\, rămâne aici \nNu e terapie. Nu e un curs clasic.E un spațiu de explorare – simplu\, uman și real. \n👥 Pentru cine este? \nPentru oricine simte că are o parte creativă care vrea să iasă la suprafațăsau pentru cei care vor să se reconecteze cu o versiune mai vie și mai autentică din ei. \n💸 Bilet: 50 – 80 lei (preț flexibil – alegi cât simți că e potrivit pentru tine și pentru a susține experiența) \n📅 25 aprilie📍 FLOWERS FESTIVAL – Topic Hub\, Sibiu🕰️ 18:00
URL:https://adunat.ro/eveniment/sinele-artistic-ca-parte-din-cine-sunt-eu/
LOCATION:Topic Hub\, Strada Tractorului 4\, Sibiu\, Sibiu\, 550123\, Romania
CATEGORIES:Atelier
ATTACH;FMTTYPE=image/jpeg:https://adunat.ro/wp-content/uploads/2026/04/Authentic-Communication-and-Human-Connection-43.jpg
END:VEVENT
END:VCALENDAR