BEGIN:VCALENDAR
VERSION:2.0
PRODID:-//Adunat.ro - ECPv6.15.20//NONSGML v1.0//EN
CALSCALE:GREGORIAN
METHOD:PUBLISH
X-WR-CALNAME:Adunat.ro
X-ORIGINAL-URL:https://adunat.ro
X-WR-CALDESC:Evenimente pentru Adunat.ro
REFRESH-INTERVAL;VALUE=DURATION:PT1H
X-Robots-Tag:noindex
X-PUBLISHED-TTL:PT1H
BEGIN:VTIMEZONE
TZID:Europe/Bucharest
BEGIN:DAYLIGHT
TZOFFSETFROM:+0200
TZOFFSETTO:+0300
TZNAME:EEST
DTSTART:20250330T010000
END:DAYLIGHT
BEGIN:STANDARD
TZOFFSETFROM:+0300
TZOFFSETTO:+0200
TZNAME:EET
DTSTART:20251026T010000
END:STANDARD
BEGIN:DAYLIGHT
TZOFFSETFROM:+0200
TZOFFSETTO:+0300
TZNAME:EEST
DTSTART:20260329T010000
END:DAYLIGHT
BEGIN:STANDARD
TZOFFSETFROM:+0300
TZOFFSETTO:+0200
TZNAME:EET
DTSTART:20261025T010000
END:STANDARD
BEGIN:DAYLIGHT
TZOFFSETFROM:+0200
TZOFFSETTO:+0300
TZNAME:EEST
DTSTART:20270328T010000
END:DAYLIGHT
BEGIN:STANDARD
TZOFFSETFROM:+0300
TZOFFSETTO:+0200
TZNAME:EET
DTSTART:20271031T010000
END:STANDARD
END:VTIMEZONE
BEGIN:VEVENT
DTSTART;TZID=Europe/Bucharest:20260418T190000
DTEND;TZID=Europe/Bucharest:20260418T210000
DTSTAMP:20260419T155342
CREATED:20260410T173752Z
LAST-MODIFIED:20260413T111124Z
UID:10000030-1776538800-1776546000@adunat.ro
SUMMARY:Seara de Socializare & Conversații Dificile: Singurătatea
DESCRIPTION:Când a fost ultima oară când ai avut o conversație care chiar a contat? \nNu despre vreme. Nu despre muncă. Nu despre lucruri “safe”. \nCi despre ceva real. Ceva care te atinge. Ceva care te afectează cu adevărat. \nAdevărul e că evităm aceste conversații. \nPentru că sunt incomode.\nPentru că nu știm cum să le purtăm.\nPentru că ne e teamă că nu vom fi înțeleși… sau că vom fi prea mult. \nȘi atunci rămânem la suprafață. \nAșa că hai să încercăm altceva. \n Sâmbătă\, 18 Aprilie te invităm la\nSocializare & Conversații Dificile: Singurătatea \n Cum vine asta? \nEste un spațiu în care putem vorbi despre lucruri care chiar contează — chiar dacă nu sunt ușoare. \nDespre singurătate.\nDespre nevoia de conexiune.\nDespre lucruri pe care\, de obicei\, le ținem pentru noi. \nFără să fim analizați.\nFără să fim întrerupți.\nFără să fim “reparați”. \n Vorbim despre experiențele noastre\, nu despre ce „ar trebui” să facă alții.\n Ascultăm fără să întrerupem sau să judecăm.\n Nu dăm sfaturi aiurea. Venim aici ca să-i înțelegem pe ceilalți\, nu să-i schimbăm.\n Ce se discută la Adunat\, rămâne la Adunat. \n Nu e un workshop\, nu e terapie de grup\, nu e ceva ultra-serios. \nE doar un loc unde poți avea conversații care chiar merită timpul tău. \n Cum decurge seara? \nFără spoilere\, dar ca idee: \n Începem cu întrebări ușoare\, de încălzire\n Explorăm treptat subiecte mai profunde legate de singurătate și conexiune\n Discutăm în grupuri mici\, în care fiecare are spațiu real\n Schimbăm contexte și perspective \nNu e despre cât de mult vorbești.\nE despre cât de prezent ești. \n Trebuie să fii deschis sau vulnerabil? \nNu. \nPoți vorbi.\nPoți spune puțin.\nPoți doar să asculți. \n Totul este o invitație\, nu o obligație. \n Cine vine la astfel de seri? \nOameni diferiți.\nUnii foarte deschiși\, alții mai rezervați.\nUnii care se simt singuri\, alții care vor să înțeleagă mai bine conexiunea. \nȘi cumva… toți ajung să se regăsească în aceleași lucruri. \n Bilet: 30 – 70 lei\n(preț flexibil – minim 30 lei\, dar poți contribui mai mult dacă vrei să susții proiectul) \n Sâmbătă\, 18 Aprilie\n Twisted Olives\, București\n Începem la ora 19:00\n Locuri limitate! \nPS: Dacă vrei să te asiguri că afli când vor fi următoarele întâlniri\, poți intra în grupul nostru de WhatsApp de anunțuri. (fără spam și mesaje aiurea\, doar anunțăm când ne adunăm) Dacă intri\, nu uita să pornești notificările ca să nu pierzi mesajele.\n\nIntră în grupul WhatsApp  👉
URL:https://adunat.ro/eveniment/seara-de-socializare-conversatii-dificile-singuratatea/
LOCATION:Twisted Olives\, Strada Covaci 4\, București\, București\, Romania
CATEGORIES:Seri de Socializare
ATTACH;FMTTYPE=image/jpeg:https://adunat.ro/wp-content/uploads/2026/04/Authentic-Communication-and-Human-Connection-36-1.jpg
ORGANIZER;CN="Vlad Nistor":MAILTO:vlad.nistor97@gmail.com
END:VEVENT
BEGIN:VEVENT
DTSTART;TZID=Europe/Bucharest:20260418T123000
DTEND;TZID=Europe/Bucharest:20260418T150000
DTSTAMP:20260419T155342
CREATED:20260410T174119Z
LAST-MODIFIED:20260417T112152Z
UID:10000031-1776515400-1776524400@adunat.ro
SUMMARY:Brunch de psihologie și socializare: „De la retele de socializare la retele de polarizare”
DESCRIPTION:Cum ar fi să ai un context în care să înveți lucruri noi și\, în același timp\, să socializezi într-un mod în care să îți permiți să fii exact cine ești? \nLa Adunat organizăm seri de psihologie și comunicare autentică\, într-un cadru informal și prietenos. \nTema „De la rețele de socializare la rețele de polarizare”\, invitat psihoterapeut Ana Popa.  Vom vorbi despre: \n\nCum ajung platformele create pentru conexiune să ne împingă spre extreme și separare\nDe ce algoritmii ne arată doar versiuni ale realității care ne confirmă și cum ne afectează asta relațiile\nCe se întâmplă psihologic când nu mai putem asculta opinii diferite fără să ne activăm\nCum gestionăm conflictele și diferențele de opinii fără să rupem relațiile\nCum putem construi spații reale de dialog într-o lume din ce în ce mai fragmentată\n\nÎn acest cadru ne dorim să: \naducem informații științifice și actuale din domeniul psihologiei mai aproape de oameni\, într-un format mai confortabil; \nsă promovăm curiozitatea și deschiderea față de știință\, față de propria persoană și față de lumea în care trăim; \nsă creăm un context în care lumea să se simtă în siguranță pentru a învăța și a socializa în mod autentic – să fie mai puțin despre a impresiona și a primi „note bune”. \nO dată la două săptămâni ne întâlnim într-un pub și alegem o temă din domeniul psihologiei. Un specialist invitat ne vorbește despre tema aleasă într-un mod lejer\, accesibil\, bazat pe date științifice actuale și experiență practică. \nAlternăm momentele de prezentare cu runde de socializare ghidată\, folosind principii simple de comunicare autentică. Nu trebuie să fii expert.\nNu trebuie să ai întrebări spectaculoase sau să fii „bun la socializare”.\nPoți să vii exact așa cum ești. \nDe ce să vii? \nÎnveți informații științifice din domeniul psihologiei\, într-un mod clar și aplicat.\nAi ocazia să cunoști oameni noi\, din medii diferite.\nPoți avea conversații care chiar merită timpul tău.\nE un spațiu în care nu primești note și nu ești judecat pentru ce știi sau nu știi. \nCum decurge seara?\n Ne așezăm în grupuri de câte patru persoane. Primim o întrebare deschisă\, gândită să ducă la o conversație interesantă.\n Fiecare are trei minute să răspundă\, fără să fie întrerupt. Dacă vrei să vorbești\, ai spațiu. Dacă vrei doar să asculți\, e în regulă.\n Alternăm aceste runde cu discuții susținute de specialistul invitat.\n Schimbăm grupurile de mai multe ori\, ca să ai ocazia să cunoști oameni diferiți.\n Încheiem cu o sesiune de Q&A.\nTotul este o invitație. Nu ești obligat să vorbești dacă nu vrei. Poți participa în ritmul tău. \nNu este curs.\nNu este terapie de grup.\nNu este ceva rigid sau ultra-serios.\nEste un context în care ai ocazia să construiești conversații reale\, fără superficialitate\, și să înveți lucruri noi din domeniul psihologiei. \nComunicarea autentică – regulile jocului\nPentru ca discuțiile să fie relaxate și fiecare să se simtă în siguranță\, respectăm câteva principii simple:\n Vorbim despre experiențele noastre\, nu despre ce „ar trebui” să facă alții.\n Ascultăm fără să întrerupem sau să judecăm.\n Nu dăm sfaturi nesolicitate. Suntem aici să înțelegem\, nu să schimbăm pe cineva.\n Ce se discută la Adunat rămâne la Adunat. \n  \nCine vine la Adunat?\nNu există o limită de vârstă și nici un „tip” anume de oameni.\nVei găsi introvertiți și extrovertiți\, oameni din domenii diferite\, cu experiențe și perspective diverse.\nTocmai asta ne place cel mai mult: aducem la aceeași masă oameni care poate nu s-ar fi întâlnit altfel. \n Bilet: 30 – 70 lei (preț flexibil – minim 30 lei\, dar poți contribui mai mult dacă vrei să susții proiectul și să ajuți ca evenimentul să rămână accesibil pentru toată lumea) \n Sâmbătă\, 18 Aprilie\n Urban Hub\, Piața Romană 2\n Ne vedem la ora 12:00\, începem efectiv la 12:30\n Locuri limitate! Ia-ți acum bilet de pe adunat.ro și hai să comunicăm un pic mai conștient. \n\nPS: Dacă vrei să afli când urmează alte evenimente\, poți intra în grupul nostru de WhatsApp de anunțuri. Fără spam\, fără mesaje aiurea — doar când ne adunăm.
URL:https://adunat.ro/eveniment/brunch-de-psihologie-si-socializare-de-la-retele-de-socializare-la-retele-de-polarizare/
LOCATION:Urban Hub\, Piața Romană 2\, București\, București\, 010371\, Romania
CATEGORIES:Seri de Socializare
ATTACH;FMTTYPE=image/webp:https://adunat.ro/wp-content/uploads/2026/04/Authentic-Communication-and-Human-Connection-22-1.webp
ORGANIZER;CN="Vlad Nistor":MAILTO:vlad.nistor97@gmail.com
END:VEVENT
BEGIN:VEVENT
DTSTART;TZID=Europe/Bucharest:20260414T183000
DTEND;TZID=Europe/Bucharest:20260414T210000
DTSTAMP:20260419T155342
CREATED:20260405T114011Z
LAST-MODIFIED:20260414T122317Z
UID:10000017-1776191400-1776200400@adunat.ro
SUMMARY:Campionat de Spart Ouă la Twisted Olives
DESCRIPTION:De ce să participi la un eveniment Adunat?\nDe câte ori ai mers la o masă de Paște sau la o întâlnire cu prietenii și… totul s-a rezumat la aceleași conversații? \nSau poate ai spart ouă cu oameni pe care îi cunoști deja\, în același mod\, an de an. \nHai să încercăm ceva diferit. \nDe data asta\, transformăm o tradiție simplă într-o experiență de conectare. \nTe invităm la un Campionat de Spart Ouă. \n\nCum vine asta?\nNu e doar despre cine are oul mai tare. \nE despre joacă\, conexiune și momente reale între oameni care nu se cunosc. \nUn context simplu\, dar suficient cât să spargă… nu doar ouăle\, ci și gheața dintre noi. \n\nRegulile jocului:\n Jucăm fair – fără ouă „suspecte”  Ne bucurăm de joc\, nu doar de câștig Interacționăm cu oamenii de la masa noastră Ce se întâmplă la Adunat\, rămâne la Adunat \n Nu e competiție serioasă\, nu e presiune\, nu e performanță. \nE doar un pretext bun să ne întâlnim și să ne simțim bine. \n\nCum decurge seara?\nNe așezăm în grupuri de câte 4 persoane. \nÎncepem cu o rundă scurtă de cunoaștere\, ca să nu spargem ouăle cu străini… chiar complet străini. \nApoi intrăm în competiție: \n Dueluri 1v1 la masă Câștigătorii merg mai departe Pierzătorii… rămân pentru socializare (care\, sincer\, e tot un win) \nPe parcurs\, schimbăm mesele și oamenii\, astfel încât să cunoști cât mai multe persoane. \nLa final\, avem un mic „final boss” – campionul serii  \n\nDar dincolo de joc…\nAșa cum probabil știi deja\, la Adunat nu e doar despre activitate. \nE despre oamenii pe care îi întâlnești în jurul ei. \nÎntre runde\, avem întrebări ușoare\, discuții spontane și momente în care pur și simplu stai și te bucuri de atmosferă. \nNu trebuie să fii cel mai sociabil om din încăpere.Nu trebuie să impresionezi pe nimeni. \nDoar vii. \n\nCine vine la Adunat?\nOameni diferiți.Extrovertiți\, introvertiți\, curioși\, sceptici. \nUnii vin pentru joc.Alții pentru oameni. \nMajoritatea pleacă cu ceva mai mult decât se așteptau. \n\n Bilet: 30 – 70 lei\n(preț flexibil – alegi cât vrei să contribui) \n Marți\, 14 Aprilie Twisted Olives\, Strada Covaci 4 (centru vechi) Începem la ora 18:30 (durată ~2.5–3h) \nLocuri limitate!Ia-ți bilet și hai să vedem… cine are oul cel mai tare  \nPS: Dacă vrei să te asiguri că afli când vor fi următoarele întâlniri\, poți intra în grupul nostru de WhatsApp de anunțuri. (fără spam și mesaje aiurea\, doar anunțăm când ne adunăm) Dacă intri\, nu uita să pornești notificările ca să nu pierzi mesajele.\nIntră în grupul WhatsApp
URL:https://adunat.ro/eveniment/campionat-de-spart-oua-la-twisted-olives/
LOCATION:Twisted Olives\, Strada Covaci 4\, București\, București\, Romania
CATEGORIES:Campionate,Seri de Socializare
ATTACH;FMTTYPE=image/jpeg:https://adunat.ro/wp-content/uploads/2026/04/Authentic-Communication-and-Human-Connection-33.jpg
ORGANIZER;CN="Vlad Nistor":MAILTO:vlad.nistor97@gmail.com
END:VEVENT
END:VCALENDAR