BEGIN:VCALENDAR
VERSION:2.0
PRODID:-//Adunat.ro - ECPv6.15.20//NONSGML v1.0//EN
CALSCALE:GREGORIAN
METHOD:PUBLISH
X-WR-CALNAME:Adunat.ro
X-ORIGINAL-URL:https://adunat.ro
X-WR-CALDESC:Evenimente pentru Adunat.ro
REFRESH-INTERVAL;VALUE=DURATION:PT1H
X-Robots-Tag:noindex
X-PUBLISHED-TTL:PT1H
BEGIN:VTIMEZONE
TZID:Europe/Bucharest
BEGIN:DAYLIGHT
TZOFFSETFROM:+0200
TZOFFSETTO:+0300
TZNAME:EEST
DTSTART:20250330T010000
END:DAYLIGHT
BEGIN:STANDARD
TZOFFSETFROM:+0300
TZOFFSETTO:+0200
TZNAME:EET
DTSTART:20251026T010000
END:STANDARD
BEGIN:DAYLIGHT
TZOFFSETFROM:+0200
TZOFFSETTO:+0300
TZNAME:EEST
DTSTART:20260329T010000
END:DAYLIGHT
BEGIN:STANDARD
TZOFFSETFROM:+0300
TZOFFSETTO:+0200
TZNAME:EET
DTSTART:20261025T010000
END:STANDARD
BEGIN:DAYLIGHT
TZOFFSETFROM:+0200
TZOFFSETTO:+0300
TZNAME:EEST
DTSTART:20270328T010000
END:DAYLIGHT
BEGIN:STANDARD
TZOFFSETFROM:+0300
TZOFFSETTO:+0200
TZNAME:EET
DTSTART:20271031T010000
END:STANDARD
END:VTIMEZONE
BEGIN:VEVENT
DTSTART;TZID=Europe/Bucharest:20260610T080000
DTEND;TZID=Europe/Bucharest:20260610T170000
DTSTAMP:20260423T155331
CREATED:20260423T091436Z
LAST-MODIFIED:20260423T092836Z
UID:4055-1781078400-1781110800@adunat.ro
SUMMARY:Eveniment test bilete
DESCRIPTION:
URL:https://adunat.ro/eveniment/eveniment-test-bilete/
LOCATION:Argo\, Strada Traian 1\, Constanța\, Constanța\, 900178\, Romania
ORGANIZER;CN="Vlad Borla":MAILTO:vlad.borla@gmail.com
END:VEVENT
END:VCALENDAR